<?xml version="1.0" encoding="utf-8"?>
<TileMap version="1.0.0" tilemapservice="http://tms.osgeo.org/1.0.0">
  <Title>rd2_20100909_RAD_53_0299_0300_recnew</Title>
  <Abstract></Abstract>
  <SRS>EPSG:4326</SRS>
  <BoundingBox minx="16.41069533128181100000" miny="103.15298406182784000000" maxx="18.63128333128181100000" maxy="105.17904006182783000000"/>
  <Origin x="16.41069533128181100000" y="103.15298406182784000000"/>
  <TileFormat width="256" height="256" mime-type="image/png" extension="png"/>
  <TileSets profile="local">
    <TileSet href="0" units-per-pixel="0.01484799999999998600" order="0"/>
    <TileSet href="1" units-per-pixel="0.00742399999999999310" order="1"/>
    <TileSet href="2" units-per-pixel="0.00371199999999999660" order="2"/>
    <TileSet href="3" units-per-pixel="0.00185599999999999830" order="3"/>
    <TileSet href="4" units-per-pixel="0.00092799999999999914" order="4"/>
    <TileSet href="5" units-per-pixel="0.00046399999999999957" order="5"/>
    <TileSet href="6" units-per-pixel="0.00023199999999999978" order="6"/>
    <TileSet href="7" units-per-pixel="0.00011599999999999989" order="7"/>
  </TileSets>
</TileMap>
